BEGIN:VCALENDAR
VERSION:2.0
PRODID:-//Morris &amp; Dickson - ECPv6.15.20//NONSGML v1.0//EN
CALSCALE:GREGORIAN
METHOD:PUBLISH
X-WR-CALNAME:Morris &amp; Dickson
X-ORIGINAL-URL:https://www.morrisdickson.com
X-WR-CALDESC:Events for Morris &amp; Dickson
REFRESH-INTERVAL;VALUE=DURATION:PT1H
X-Robots-Tag:noindex
X-PUBLISHED-TTL:PT1H
BEGIN:VTIMEZONE
TZID:UTC
BEGIN:STANDARD
TZOFFSETFROM:+0000
TZOFFSETTO:+0000
TZNAME:UTC
DTSTART:20250101T000000
END:STANDARD
END:VTIMEZONE
BEGIN:VEVENT
DTSTART;VALUE=DATE:20260424
DTEND;VALUE=DATE:20260427
DTSTAMP:20260424T141847
CREATED:20260410T182629Z
LAST-MODIFIED:20260410T182726Z
UID:1978-1776988800-1777247999@www.morrisdickson.com
SUMMARY:Texas Society of Health System Pharmacists Annual Seminar
DESCRIPTION:Booth #600
URL:https://www.morrisdickson.com/event/texas-society-of-health-system-pharmacists-annual-seminar/
LOCATION:Moody Gardens Hotel\, Spa & Convention Center | Galveston Island\, TX
END:VEVENT
BEGIN:VEVENT
DTSTART;VALUE=DATE:20260426
DTEND;VALUE=DATE:20260501
DTSTAMP:20260424T141847
CREATED:20260410T182840Z
LAST-MODIFIED:20260410T182902Z
UID:1980-1777161600-1777593599@www.morrisdickson.com
SUMMARY:Asembia 2026
DESCRIPTION:
URL:https://www.morrisdickson.com/event/axs2026/
LOCATION:Wynn & Encore | Las Vegas\, NV
END:VEVENT
BEGIN:VEVENT
DTSTART;VALUE=DATE:20260428
DTEND;VALUE=DATE:20260502
DTSTAMP:20260424T141847
CREATED:20260410T183152Z
LAST-MODIFIED:20260410T183152Z
UID:1982-1777334400-1777679999@www.morrisdickson.com
SUMMARY:PharmcareUSA National Meeting
DESCRIPTION:
URL:https://www.morrisdickson.com/event/pharmcareusa-national-meeting/
LOCATION:PigeonForce\, TN
END:VEVENT
BEGIN:VEVENT
DTSTART;VALUE=DATE:20260518
DTEND;VALUE=DATE:20260521
DTSTAMP:20260424T141847
CREATED:20260410T183314Z
LAST-MODIFIED:20260410T184219Z
UID:1984-1779062400-1779321599@www.morrisdickson.com
SUMMARY:2026 Spring Hospital Pharmacy Conference
DESCRIPTION:
URL:https://www.morrisdickson.com/event/hospital-pharmacy-conference/
LOCATION:The Galt House Hotel & Kentucky International Convention Center
END:VEVENT
BEGIN:VEVENT
DTSTART;VALUE=DATE:20260521
DTEND;VALUE=DATE:20260524
DTSTAMP:20260424T141847
CREATED:20260410T183403Z
LAST-MODIFIED:20260410T183950Z
UID:1986-1779321600-1779580799@www.morrisdickson.com
SUMMARY:Louisiana Society of Health-System Pharmacists | 2026 Annual Meeting
DESCRIPTION:
URL:https://www.morrisdickson.com/event/lshp-annual-meeting/
LOCATION:New Orleans\, LA
END:VEVENT
BEGIN:VEVENT
DTSTART;VALUE=DATE:20260529
DTEND;VALUE=DATE:20260603
DTSTAMP:20260424T141847
CREATED:20260410T183536Z
LAST-MODIFIED:20260410T183817Z
UID:1987-1780012800-1780444799@www.morrisdickson.com
SUMMARY:American Society of Clinical Oncology | 2026 Annual Meeting
DESCRIPTION:
URL:https://www.morrisdickson.com/event/asco/
LOCATION:Chicago\, IL
END:VEVENT
BEGIN:VEVENT
DTSTART;VALUE=DATE:20260607
DTEND;VALUE=DATE:20260611
DTSTAMP:20260424T141847
CREATED:20260410T205710Z
LAST-MODIFIED:20260410T205710Z
UID:1992-1780790400-1781135999@www.morrisdickson.com
SUMMARY:Alabama Pharmacy Association
DESCRIPTION:
URL:https://www.morrisdickson.com/event/alabama-pharmacy-association/
LOCATION:Gulf Shores\, AL
END:VEVENT
BEGIN:VEVENT
DTSTART;VALUE=DATE:20260611
DTEND;VALUE=DATE:20260613
DTSTAMP:20260424T141847
CREATED:20260410T205821Z
LAST-MODIFIED:20260410T205821Z
UID:1993-1781136000-1781308799@www.morrisdickson.com
SUMMARY:Arkansas Pharmacy Association | 143rd Annual Convention
DESCRIPTION:
URL:https://www.morrisdickson.com/event/arkansas-pharmacy-association-143rd-annual-convention/
LOCATION:Rogers\, AL
END:VEVENT
BEGIN:VEVENT
DTSTART;VALUE=DATE:20260614
DTEND;VALUE=DATE:20260618
DTSTAMP:20260424T141847
CREATED:20260410T205928Z
LAST-MODIFIED:20260410T205928Z
UID:1995-1781395200-1781740799@www.morrisdickson.com
SUMMARY:Healthcare Distribution Association - Business and Leadership Conference
DESCRIPTION:
URL:https://www.morrisdickson.com/event/healthcare-distribution-association-business-and-leadership-conference/
LOCATION:San Diego\, CA
END:VEVENT
BEGIN:VEVENT
DTSTART;VALUE=DATE:20260618
DTEND;VALUE=DATE:20260622
DTSTAMP:20260424T141847
CREATED:20260410T210211Z
LAST-MODIFIED:20260410T210544Z
UID:1996-1781740800-1782086399@www.morrisdickson.com
SUMMARY:Georgia Pharmacy 2026 Convention
DESCRIPTION:Booth #609
URL:https://www.morrisdickson.com/event/georgia-pharmacy-convention-2/
LOCATION:Omni Amelia Island Resort | Amelia\, FL
END:VEVENT
BEGIN:VEVENT
DTSTART;VALUE=DATE:20260709
DTEND;VALUE=DATE:20260711
DTSTAMP:20260424T141847
CREATED:20260410T210402Z
LAST-MODIFIED:20260410T210436Z
UID:1998-1783555200-1783727999@www.morrisdickson.com
SUMMARY:National Infusion Center Association | 2026 Annual Conference
DESCRIPTION:Booth #137
URL:https://www.morrisdickson.com/event/national-infusion-center-association-2026-annual-conference/
LOCATION:The Fontainebleau Las Vegas | Las Vegas\, NV
END:VEVENT
END:VCALENDAR